BEGIN:VCALENDAR
VERSION:2.0
PRODID:-//The Royal Australian Artillery Association &#040;Victoria&#041; Inc. - ECPv5.3.1.1//NONSGML v1.0//EN
CALSCALE:GREGORIAN
METHOD:PUBLISH
X-WR-CALNAME:The Royal Australian Artillery Association &#040;Victoria&#041; Inc.
X-ORIGINAL-URL:http://artilleryvic.org.au
X-WR-CALDESC:Events for The Royal Australian Artillery Association &#040;Victoria&#041; Inc.
BEGIN:VTIMEZONE
TZID:Australia/Melbourne
BEGIN:STANDARD
TZOFFSETFROM:+1100
TZOFFSETTO:+1000
TZNAME:AEST
DTSTART:20180331T160000
END:STANDARD
BEGIN:DAYLIGHT
TZOFFSETFROM:+1000
TZOFFSETTO:+1100
TZNAME:AEDT
DTSTART:20181006T160000
END:DAYLIGHT
END:VTIMEZONE
BEGIN:VEVENT
DTSTART;TZID=Australia/Melbourne:20180928T193000
DTEND;TZID=Australia/Melbourne:20180928T220000
DTSTAMP:20210227T085402
CREATED:20180901T225355Z
LAST-MODIFIED:20180901T225355Z
UID:1478-1538163000-1538172000@artilleryvic.org.au
SUMMARY:2/10 Bty Happy Hour
DESCRIPTION:  \n \n  \nINVITATION \n  \n2/10 Battery mess committee would like to invite members\, partners and friends to attend our Happy Hour function to be held on 28th September 2018 at the 2/10 Battery Mess\, Sargood Barracks. We will have a poker night\, role-playing games and a darts contest. \nPlease come along for what should be a very enjoyable evening. \nAttire:                        Neat casual with collar \n 
URL:http://artilleryvic.org.au/index.php/event/2-10-bty-happy-hour/
LOCATION:Sargood Barracks\, East St Kilda\, 6-10 Chapel Street\, East St Kilda\, VIC\, 3181\, Australia
END:VEVENT
END:VCALENDAR